BEGIN:VCALENDAR
VERSION:2.0
PRODID:-//Ridskolan Stockby - ECPv6.15.20//NONSGML v1.0//EN
CALSCALE:GREGORIAN
METHOD:PUBLISH
X-ORIGINAL-URL:https://ridskolanstockby.se
X-WR-CALDESC:Händelser för Ridskolan Stockby
REFRESH-INTERVAL;VALUE=DURATION:PT1H
X-Robots-Tag:noindex
X-PUBLISHED-TTL:PT1H
BEGIN:VTIMEZONE
TZID:Europe/Stockholm
BEGIN:DAYLIGHT
TZOFFSETFROM:+0100
TZOFFSETTO:+0200
TZNAME:CEST
DTSTART:20250330T010000
END:DAYLIGHT
BEGIN:STANDARD
TZOFFSETFROM:+0200
TZOFFSETTO:+0100
TZNAME:CET
DTSTART:20251026T010000
END:STANDARD
BEGIN:DAYLIGHT
TZOFFSETFROM:+0100
TZOFFSETTO:+0200
TZNAME:CEST
DTSTART:20260329T010000
END:DAYLIGHT
BEGIN:STANDARD
TZOFFSETFROM:+0200
TZOFFSETTO:+0100
TZNAME:CET
DTSTART:20261025T010000
END:STANDARD
BEGIN:DAYLIGHT
TZOFFSETFROM:+0100
TZOFFSETTO:+0200
TZNAME:CEST
DTSTART:20270328T010000
END:DAYLIGHT
BEGIN:STANDARD
TZOFFSETFROM:+0200
TZOFFSETTO:+0100
TZNAME:CET
DTSTART:20271031T010000
END:STANDARD
END:VTIMEZONE
BEGIN:VEVENT
DTSTART;TZID=Europe/Stockholm:20260422T183000
DTEND;TZID=Europe/Stockholm:20260422T200000
DTSTAMP:20260420T163739
CREATED:20260318T145134Z
LAST-MODIFIED:20260318T150431Z
UID:13985-1776882600-1776888000@ridskolanstockby.se
SUMMARY:⭐Clinic med Kia & Amanda
DESCRIPTION:Har du koll på utbildningsskalan? \nVar: Stora Ridhuset\nNär: 18.30 \n  \nFör dig som rider i P6 samt i våra storhästgrupper.\nJC fredagar 18.00 går på övriga clinics och SA fredagar har teori på sin egen tid. Ordinarie ridning utgår på respektive teorikväll.\nDu anmäler dig till en eller flera clinics utefter vad du är intresserad av. Anmälan görs i Hippocrates\, logga in och hitta anmälan under Ridskolan”. När anmälan är gjord hittas bokningen under ”Mina aktiviteter”.
URL:https://ridskolanstockby.se/kalender/clinic-med-kia-amanda/
LOCATION:Stora Ridhuset\, Stockbyvägen 2\, Lidingö\, 181 41
END:VEVENT
BEGIN:VEVENT
DTSTART;TZID=Europe/Stockholm:20260426T090000
DTEND;TZID=Europe/Stockholm:20260426T110000
DTSTAMP:20260420T163739
CREATED:20260113T082725Z
LAST-MODIFIED:20260305T142651Z
UID:13763-1777194000-1777201200@ridskolanstockby.se
SUMMARY:🐎Prova på ridning för vuxna
DESCRIPTION:Är du  nyfiken på hur det känns att sitta på hästryggen. Här har du chansen att prova. Vi ses i stallet och gör iordning hästarna\, sen går vi in i ridhuset och provar på hur det är att rida. \nSamling 9.00\nRidning ca 9.45-10.30 \nMax 6 elever\nPris: 550:-\nTillkommer fakturaavgift 20:- \nAnmälan görs i Hippocrates\, logga in och hitta anmälan under ”Ridskolan”. När anmälan är gjord hittas bokningen under ”Mina aktiviteter”\, i pratbubblan kan önskemål om häst skrivas in. Avbokning sker i Hippocrates och måste göras senast 36 timmar innan\, annars debiteras full avgift.
URL:https://ridskolanstockby.se/kalender/%f0%9f%90%8eprova-pa-ridning-for-vuxna-2/
END:VEVENT
BEGIN:VEVENT
DTSTART;TZID=Europe/Stockholm:20260426T103000
DTEND;TZID=Europe/Stockholm:20260426T150000
DTSTAMP:20260420T163739
CREATED:20260113T082837Z
LAST-MODIFIED:20260313T122733Z
UID:13765-1777199400-1777215600@ridskolanstockby.se
SUMMARY:🐎Dag med ponny från nivå P4
DESCRIPTION:Du tar hand om din häst och rider ett pass för instruktör\, ett pass självständigt\, och tar hand om utrustningen. \n\nSamling 10.30\n11.00-12.00 Ridning för instruktör\n13.30-14.30 Självständig ridning \nNivå P4-P6\nMax 8 elever\nInstruktör: Lotta Harlestam\nPris: Junior 975:- + fakturaavgift 20:- \n Anmälan görs i Hippocrates senast 24/4\, logga in och hitta anmälan under ”Ridskolan”. När anmälan är gjord hittas bokningen under ”Mina aktiviteter”\, i pratbubblan kan önskemål om häst skrivas in.\nAvbokning sker i Hippocrates och måste göras senast 36 timmar innan\, annars debiteras full avgift. \n \nPUZZEL
URL:https://ridskolanstockby.se/kalender/%f0%9f%90%8edag-med-ponny/
END:VEVENT
BEGIN:VEVENT
DTSTART;TZID=Europe/Stockholm:20260428T183000
DTEND;TZID=Europe/Stockholm:20260428T200000
DTSTAMP:20260420T163739
CREATED:20260318T145927Z
LAST-MODIFIED:20260318T150201Z
UID:13990-1777401000-1777406400@ridskolanstockby.se
SUMMARY:⭐Clinic - Gymnastik för häst och ryttare
DESCRIPTION:Kvällen börjar med en uppvärmning där alla på plats deltar\, kom i bekväma kläder och gärna med en filt att ha på marken. Marianne är en erfaren pilatesinstruktör\, så vi lovar att det blir kul! Här får ni tips på enkla rörelser att göra före och efter ridpasset; med små vanor kan vi få stor skillnad i ridningen. \nDärefter visar vi uppsuttet hur vi med hjälp av bommar kan värma upp på ett sätt som är roligt för både häst och ryttare.  \n Stora ridhuset kl 18.30-20.00 \nVarmt välkomna!\nBia och Marianne \nFör dig som rider i P6 samt i våra storhästgrupper.\nJC fredagar 18.00 går på övriga clinics och SA fredagar har teori på sin egen tid. Ordinarie ridning utgår på respektive teorikväll.\nDu anmäler dig till en eller flera clinics utefter vad du är intresserad av. Anmälan görs i Hippocrates\, logga in och hitta anmälan under Ridskolan”. När anmälan är gjord hittas bokningen under ”Mina aktiviteter”.
URL:https://ridskolanstockby.se/kalender/%e2%ad%90clinic-gymnastik-for-hast-och-ryttare/
LOCATION:Stora Ridhuset\, Stockbyvägen 2\, Lidingö\, 181 41
END:VEVENT
END:VCALENDAR