BEGIN:VCALENDAR
VERSION:2.0
PRODID:-//Ridskolan Stockby - ECPv6.15.20//NONSGML v1.0//EN
CALSCALE:GREGORIAN
METHOD:PUBLISH
X-ORIGINAL-URL:https://ridskolanstockby.se
X-WR-CALDESC:Händelser för Ridskolan Stockby
REFRESH-INTERVAL;VALUE=DURATION:PT1H
X-Robots-Tag:noindex
X-PUBLISHED-TTL:PT1H
BEGIN:VTIMEZONE
TZID:Europe/Stockholm
BEGIN:DAYLIGHT
TZOFFSETFROM:+0100
TZOFFSETTO:+0200
TZNAME:CEST
DTSTART:20240331T010000
END:DAYLIGHT
BEGIN:STANDARD
TZOFFSETFROM:+0200
TZOFFSETTO:+0100
TZNAME:CET
DTSTART:20241027T010000
END:STANDARD
BEGIN:DAYLIGHT
TZOFFSETFROM:+0100
TZOFFSETTO:+0200
TZNAME:CEST
DTSTART:20250330T010000
END:DAYLIGHT
BEGIN:STANDARD
TZOFFSETFROM:+0200
TZOFFSETTO:+0100
TZNAME:CET
DTSTART:20251026T010000
END:STANDARD
BEGIN:DAYLIGHT
TZOFFSETFROM:+0100
TZOFFSETTO:+0200
TZNAME:CEST
DTSTART:20260329T010000
END:DAYLIGHT
BEGIN:STANDARD
TZOFFSETFROM:+0200
TZOFFSETTO:+0100
TZNAME:CET
DTSTART:20261025T010000
END:STANDARD
END:VTIMEZONE
BEGIN:VEVENT
DTSTART;TZID=Europe/Stockholm:20251101T083000
DTEND;TZID=Europe/Stockholm:20251101T143000
DTSTAMP:20260421T224541
CREATED:20250604T125725Z
LAST-MODIFIED:20250604T125725Z
UID:12821-1761985800-1762007400@ridskolanstockby.se
SUMMARY:Ordinarie lektioner utgår
DESCRIPTION:På Alla helgons dag utgår de ordinarie lektionerna.
URL:https://ridskolanstockby.se/kalender/ordinarie-lektioner-utgar-57/
END:VEVENT
BEGIN:VEVENT
DTSTART;TZID=Europe/Stockholm:20251101T100000
DTEND;TZID=Europe/Stockholm:20251101T160000
DTSTAMP:20260421T224541
CREATED:20251017T113338Z
LAST-MODIFIED:20251021T070142Z
UID:13361-1761991200-1762012800@ridskolanstockby.se
SUMMARY:🏇Hoppträning med Per Dahlgren
DESCRIPTION:Ridskolan erbjuder ryttarna i Träningsgrupp hoppning och Utvecklingsgruppen att träna för Per Dahlgren.  \nAlla är välkomna att följa träningen från läktaren!
URL:https://ridskolanstockby.se/kalender/hopptraning-med-per-dahlgren-4/
LOCATION:Stora Ridhuset\, Stockbyvägen 2\, Lidingö\, 181 41
END:VEVENT
BEGIN:VEVENT
DTSTART;TZID=Europe/Stockholm:20251102T080000
DTEND;TZID=Europe/Stockholm:20251102T170000
DTSTAMP:20260421T224541
CREATED:20250704T102006Z
LAST-MODIFIED:20250704T102006Z
UID:13062-1762070400-1762102800@ridskolanstockby.se
SUMMARY:🎠Prova-på-ridning
DESCRIPTION:Anmälan görs i Hippocrates från 6 dagar innan tillfället \nProva-på-ridning för barn & Föräldrarutbildning | Ridskolan Stockby
URL:https://ridskolanstockby.se/kalender/%f0%9f%8e%a0prova-pa-ridning-6/
END:VEVENT
BEGIN:VEVENT
DTSTART;TZID=Europe/Stockholm:20251102T083000
DTEND;TZID=Europe/Stockholm:20251102T133000
DTSTAMP:20260421T224541
CREATED:20250704T092637Z
LAST-MODIFIED:20251015T125240Z
UID:13012-1762072200-1762090200@ridskolanstockby.se
SUMMARY:🏇Markarbete/Gymnastikhoppning från nivå P4
DESCRIPTION:Ett pass markarbete 60 minuter och ett pass trav- och gymnastikhoppning 75 minuter. Ett bra tillfälle att träna på rytm och balans. \nNivå: P4-P6 \nSamling 8.30\, ridning 9.15-10.15\, 12.00-13.15. \nMax 8 elever \nInstruktör: Amanda Robertsdotter \nAnmälan görs i Hippocrates\, logga in och hitta anmälan under ”Ridskolan”. När anmälan är gjord hittas bokningen under ”Mina aktiviteter”\, i pratbubblan kan önskemål om häst skrivas in.\nAvbokning sker i Hippocrates och måste göras senast 36 timmar innan\, annars debiteras full avgift.
URL:https://ridskolanstockby.se/kalender/hoppkurs-pa-ponny-med-amanda/
END:VEVENT
BEGIN:VEVENT
DTSTART;TZID=Europe/Stockholm:20251102T100000
DTEND;TZID=Europe/Stockholm:20251102T150000
DTSTAMP:20260421T224541
CREATED:20251017T113500Z
LAST-MODIFIED:20251017T113518Z
UID:13363-1762077600-1762095600@ridskolanstockby.se
SUMMARY:Hoppträning med Per Dahlgren
DESCRIPTION:Ridskolan erbjuder ryttarna i Träningsgrupp hoppning och Utvecklingsgruppen att träna för Per Dahlgren.  \nAlla är välkomna att följa träningen från läktaren!
URL:https://ridskolanstockby.se/kalender/hopptraning-med-per-dahlgren-5/
LOCATION:Stora Ridhuset\, Stockbyvägen 2\, Lidingö\, 181 41
END:VEVENT
BEGIN:VEVENT
DTSTART;TZID=Europe/Stockholm:20251102T170000
DTEND;TZID=Europe/Stockholm:20251102T180000
DTSTAMP:20260421T224541
CREATED:20250616T120142Z
LAST-MODIFIED:20250616T120142Z
UID:12903-1762102800-1762106400@ridskolanstockby.se
SUMMARY:Ordinarie lektion utgår
DESCRIPTION:Tävlingsgruppen rider inte denna helg.
URL:https://ridskolanstockby.se/kalender/ordinarie-lektion-utgar/
END:VEVENT
BEGIN:VEVENT
DTSTART;TZID=Europe/Stockholm:20251106T183000
DTEND;TZID=Europe/Stockholm:20251106T200000
DTSTAMP:20260421T224541
CREATED:20250919T154114Z
LAST-MODIFIED:20251015T085523Z
UID:13243-1762453800-1762459200@ridskolanstockby.se
SUMMARY:⭐Clinic med Frida & Sandra
DESCRIPTION:Ämnet för dagen är\, hur slussar vi in nya hästar i verksamheten. Ridskolans Utvecklingsgrupp på ponny medverkar. \nTid: 18.30\nPlats: Stora Ridhuset\nInstruktörer: Frida Söderlindh & Sandra Asp \nTeoriclinics höstterminen 2025\nFör dig som rider i P6 samt i våra storhästgrupper.\nJC fredagar 18.00 går på övriga clinics och SA fredagar har teori på sin egen tid..\nOrdinarie ridning utgår på respektive teorikväll.\nDu anmäler dig till en eller flera clinics utefter vad du är intresserad av. Anmälan görs i Hippocrates\, logga in och hitta anmälan under Ridskolan”. När anmälan är gjord hittas bokningen under ”Mina aktiviteter”.
URL:https://ridskolanstockby.se/kalender/%e2%ad%90teoriclinic/
END:VEVENT
BEGIN:VEVENT
DTSTART;TZID=Europe/Stockholm:20251109T083000
DTEND;TZID=Europe/Stockholm:20251109T130000
DTSTAMP:20260421T224541
CREATED:20250704T092824Z
LAST-MODIFIED:20251017T113834Z
UID:13014-1762677000-1762693200@ridskolanstockby.se
SUMMARY:ARK Dressyrkurs
DESCRIPTION:För medlemmar i ARK. ARK tillhandahåller information och tar emot anmälningar.
URL:https://ridskolanstockby.se/kalender/ark-dressyrkurs-28/
END:VEVENT
BEGIN:VEVENT
DTSTART;TZID=Europe/Stockholm:20251109T130000
DTEND;TZID=Europe/Stockholm:20251109T140000
DTSTAMP:20260421T224541
CREATED:20250704T110011Z
LAST-MODIFIED:20251029T143330Z
UID:13064-1762693200-1762696800@ridskolanstockby.se
SUMMARY:🎠Prova-på-ridning
DESCRIPTION:Anmälan görs i Hippocrates från 6 dagar innan tillfället \nProva-på-ridning för barn & Föräldrarutbildning | Ridskolan Stockby
URL:https://ridskolanstockby.se/kalender/%f0%9f%8e%a0prova-pa-ridning-7/
END:VEVENT
BEGIN:VEVENT
DTSTART;TZID=Europe/Stockholm:20251112T183000
DTEND;TZID=Europe/Stockholm:20251112T200000
DTSTAMP:20260421T224541
CREATED:20250919T154235Z
LAST-MODIFIED:20251112T150023Z
UID:13245-1762972200-1762977600@ridskolanstockby.se
SUMMARY:⭐Clinic med Amanda & Kia - Löshoppning
DESCRIPTION:Ämnet för dagen är löshoppning. Se några av våra lektionshästar och ponnyer ta sig an hinder utan ryttare på ryggen. \nTid: 18.30\nPlats: Lilla ridhuset\nRidlärare: Amanda Robertsdotter & Kia Strandberg \nTeoriclinics höstterminen 2025\nFör dig som rider i P6 samt i våra storhästgrupper.\nJC fredagar 18.00 går på övriga clinics och SA fredagar har teori på sin egen tid.\nOrdinarie ridning utgår på respektive teorikväll.\nDu anmäler dig till en eller flera clinics utefter vad du är intresserad av. Anmälan görs i Hippocrates\, logga in och hitta anmälan under Ridskolan”. När anmälan är gjord hittas bokningen under ”Mina aktiviteter”.
URL:https://ridskolanstockby.se/kalender/%e2%ad%90teoriclinic-2/
LOCATION:Lilla Ridhuset\, Stockbyvägen 2\, Lidingö
END:VEVENT
BEGIN:VEVENT
DTSTART;TZID=Europe/Stockholm:20251116T080000
DTEND;TZID=Europe/Stockholm:20251116T160000
DTSTAMP:20260421T224541
CREATED:20250704T092928Z
LAST-MODIFIED:20251022T092109Z
UID:13016-1763280000-1763308800@ridskolanstockby.se
SUMMARY:🏆Seriedressyr omgång 2
DESCRIPTION:Proposition för Seriedressyr omgång 2\, 16 november 2025 \nTävlingen arrangeras av Ridskolan Stockby i samarbete med Lidingö Ryttarförening (LRF) på Ridskolan Stockby. Tävlingen är öppen för medlemmar i LRF. Ryttare på lektionshäst ska ha plats i ordinarie grupp på Ridskolan Stockby för att delta. \nAnmälan öppnar fredagen den 24 oktober och görs via Hippocrates och din elevportal. Har du inget konto till Hippocrates kontakta Ridskolan Stockby via mail: info@ridskolanstockby.se.  Anmälan ska ske senast måndag 10/11. I mån av plats kan efteranmälan accepteras. \nAnmälnings-/startavgift\, 125 kronor\, betalas via Swish\, 123 098 65 54\, till LRF senast fredagen den 14 november kl 17.00. \nFör Ridskolan Stockbys elever gäller följande: Vid anmälan lämnas 3 önskemål om ponny/häst (gäller ryttare på lektionshäst/ponny). Som lektionsryttare kommer du att delta på olika ponnier/ hästar vid varje serieomgång. Om du tävlar som Ridskoleryttare för första gången ska du meddela detta vid din anmälan. \nHästhyra Ridskolan Stockby; Junior 500 kronor/ Senior 550 kronor. Hästhyran betalas mot faktura till Ridskolan Stockby. Anmälningsavgift och hästhyra återbetalas ej vid eventuell strykning efter anmälningstidens utgång \nFör att stimulera privatryttare att delta i Serietävlingarna har LRF:s styrelse har beslutat att tills vidare stå för ridhusavgiften för de LRF medlemmar som inte har ridhuskort då de tävlar på LRF:s klubbtävlingar på Elfvik och Stockby. Någon särskild ridhusavgift kommer således inte att tas ut på Seriedressyren. \nFör ridskolans hästar och ponnier gäller följande ang:\nSpö:                     får bäras. Ponny spö max 75 cm    Häst max 110 cm\nSporrar:               får inte användas i lektionshäst och lektionsponny klasserna. \nKlasser och dressyrprogram\nTävlingen är uppdelad så ponnyekipage tävlar för sig och storhästekipage tävlar för sig. Olika dressyrprogram beroende på vilken nivå ryttaren rider. \nKlass 1 – Lätt C:1 2025                 Öppen för ryttare i P5\nKlass 2 – Lätt C:2 2025                 Öppen för ryttare i P6 och Träningsgrupper på ponny\nKlass 3 – Lätt C:2 2025                 Öppen för ryttare i HC\nKlass 4 – Lätt B:1 2019                 Öppen för ryttare i HD och Träningsgrupper på häst\nKlass 5 – Lätt B:3 2025                 Öppen för ryttare i HD och HE\nKlass 6 – Privatryttare                   Väljer det program du brukar tävla på eller program efter den nivå du tränar på. TRs regler tillämpas. Ridskolans tävlingsgrupp rider i denna klass. \nNYHET för lektionsponny/häst – Lättridning genomgående i trav i följande program LC:1\, LC:2 och LB:1. \nRidskoleryttare som vid två tillfällen ridit över 62% på Seriedressyren föregående år får anmäla sig till en högre klass. I anmälan ska tidigare resultat redovisas för att dessa ska beaktas. Om ryttaren därefter ridit under 57% så återgår man till den lägre klassen. Gäller ej ponny. \nRyttare på privathäst/ponny väljer det program som man brukar tävla på eller program efter den nivå man tränar på. Det ska dock vara det senaste daterade programmet på respektive nivå. Meddela i samband med anmälan vilket program du planerar att rida. Ni tävlar mot varandra\, högst procent vinner. \nRegler för Seriedressyren\, ridskoleekipage– kvalificeringsregler\nSeriehoppning & Seriedressyr | Ridskolan Stockby \nRyttarmeddelande\, startlista och funktionärslista finns i stallet\, på www.ridskolanstockby.se och på www.lidingorf.se senast fredag 14 november 2025. \nVälkomna!
URL:https://ridskolanstockby.se/kalender/seriedressyr-omgang-2-7/
END:VEVENT
BEGIN:VEVENT
DTSTART;TZID=Europe/Stockholm:20251118T183000
DTEND;TZID=Europe/Stockholm:20251118T200000
DTSTAMP:20260421T224541
CREATED:20250919T154351Z
LAST-MODIFIED:20251112T145922Z
UID:13247-1763490600-1763496000@ridskolanstockby.se
SUMMARY:⭐Clinic - Seriedressyr för alla!
DESCRIPTION:Med denna clinic hoppas jag kunna visa er hur roligt och utvecklande det är att delta på klubbens tävlingar. Seriedressyren är så mycket mer än en tävling\, på köpet får man också gemenskap\, sammanhållning och chansen att få rida helt självständigt. \nDet blir en kväll med tips och pepp både för dig som redan deltar på tävlingarna och för dig som funderat på att anmäla dig\, men kanske inte vågat. Rider gör Janca Hodann Söder och Maria Hyborn. \n⭐Vad ska jag tänka på? \n⭐Vad tittar domaren på? \n⭐Hur lär jag mig ett dressyrprogram? \n⭐Hur hanterar jag nervositeten? \n  \nVarmt välkomna!\n//Bia \n  \n  \n  \nTeoriclinics höstterminen 2025\nFör dig som rider i P6 och i våra storhästgrupper.\nOrdinarie ridning utgår på respektive teorikväll.\nDu anmäler dig till en eller flera clinics utefter vad du är intresserad av.\nAnmälan görs i Hippocrates\, logga in och hitta anmälan under ”Ridskolan”. När anmälan är gjord hittas bokningen under ”Mina aktiviteter”
URL:https://ridskolanstockby.se/kalender/%e2%ad%90teoriclinic-3/
LOCATION:Stora Ridhuset\, Stockbyvägen 2\, Lidingö\, 181 41
END:VEVENT
BEGIN:VEVENT
DTSTART;TZID=Europe/Stockholm:20251123T080000
DTEND;TZID=Europe/Stockholm:20251123T150000
DTSTAMP:20260421T224541
CREATED:20250704T093005Z
LAST-MODIFIED:20251021T065951Z
UID:13018-1763884800-1763910000@ridskolanstockby.se
SUMMARY:🏆Seriehoppning omgång 2
DESCRIPTION:Proposition för Maskeradseriehoppning omg.2 23 november 2025 \nTävlingen arrangeras av Ridskolan Stockby i samarbete med\nLidingö Ryttarförening (LRF) på Ridskolan Stockby. Tävlingen är\nöppen för medlemmar i LRF. Ryttare på lektionshäst skall ha egen\nplats i ordinarie grupp på Ridskolan Stockby för att delta. \nDenna omgång rids som maskeradhoppning och pris till bäst utklädda\nekipage i respektive klass kommer delas ut. \nAnmälan görs senast fredag 14 november via Hippocrates och\ndin elevportal. Har du inget konto till Hippocrates kontakta\nRidskolan Stockby via mail: info@ridskolanstockby.se. \nAntalet platser är begränsat. För Ridskolan Stockbys elever gäller\nföljande: Vid anmälan lämnas 3 hästönskemål. Som lektionsryttare\nkommer du att delta på olika ponnyer/hästar vid varje serieomgång.\nFör att kunna genomföra seriehoppningen behöver alla deltagare vara\nberedda på att även hjälpa till som funktionär under hela tävlingsdagen. \nAnmälnings-/startavgift\, 125:- betalas med swish till LRF på angiven\ntid och plats på tävlingsdagen\, anges på ryttarmeddelandet.\nHästhyra Ridskolan Stockby; Junior: 500:-/Senior 550:-. Hästhyran\nbetalas mot faktura till Ridskolan Stockby. Anmälningsavgift och hästhyra\nåterbetalas ej vid ev strykning efter anmälningstidens utgång.\nLRF´s styrelse har beslutat att tillsvidare stå för ridhusavgiften för de\nLRF medlemmar som inte har ridhusnyckel då de tävlar på LRFs klubbtävlingar\npå Elfvik och Stockby\, detta för att stimulera deltagande i tävlingarna. Någon\nsärskild ridhusavgift kommer således inte att tas ut på Seriehoppningen. \nKlasser\nTävlingen är uppdelad så ponnyekipage tävlar för sig och storhästekipage\ntävlar för sig. Olika hinderhöjder beroende på vilken nivå ryttaren rider.\nLektionsryttare som gör sin första start i seriehoppningen skall anmäla sig\ntill klass 5 resp. 3.\n\nKlass 5 Lektionsponny\, bedömning A\nP5-P6\, 50cm Lektionsryttare ponny som gör sin första seriestart.\nKlass 4 Lektionsponny\, bedömning A:0/A:0\nP5 – 50cm\nP6 – 60cm\nTräningsgrupper – 70cm\nKlass 3 Lektionshäst\, bedömning A\nSC-SE\, 60cm\, Lektionsryttare som gör sin första seriestart.\nKlass 4 Lektionshäst\, bedömning A:0/A:0\nSC – 60cm\nSD – 70cm\nSE\, träningsgrupper – 80cm\nKlass 5 Privatponny/häst\, bedömning A:0/A:0\n50\, 70\, 80\, 90cm\, 1m rider du två klasser gäller resultatet i serien\npå den högre höjden. \nVad betyder bedöming A:0/A:0?\nA:0/A:0 betyder att varje ekipage rider en grundomgång med maxtid.\nOm ekipaget är felfritt i grundomgången och är inom maxtiden så rids\nomhoppning direkt efter grundomgångens sista hinder. Det blir ingen\nny startsignal utan ryttaren fortsätter direkt till första hindret i omhoppningen.\nVinner gör den ryttare med minst antal fel i omhoppningen. Om felpoängen\när lika mellan en eller flera ryttare vinner den ryttare som har snabbast tid. \nVad betyder bedömning A\nBedömning A betyder att du rider en grundomgång. Bedömningen går inte på tid och målet är att hoppa felfritt. Ingen omhoppning rids i bedömning A.\nAlla som rider felfritt får rosett. Bedömning A är obligatorisk för ryttare som\ngör sin första start i seriehoppningen. \nPreliminärt tidsprogram\, kan senareläggas beroende på antal starter.\nTeorigenomgång kl.8.15 i teorisalen\, för dig som inte startat seriehoppning innan. Banbygge kl. 8.45\, därefter bangång.\nFörsta start beräknas till ca 10.00. \nRyttarmeddelande\, start- och funktionärslista finns i stallet\, på www.ridskolanstockby.se och på www.lidingorf.se\, senast 21 november. \nVälkommen med din anmälan.
URL:https://ridskolanstockby.se/kalender/seriehoppning-omgang-2-6/
END:VEVENT
BEGIN:VEVENT
DTSTART;TZID=Europe/Stockholm:20251124T190000
DTEND;TZID=Europe/Stockholm:20251124T203000
DTSTAMP:20260421T224541
CREATED:20250919T154450Z
LAST-MODIFIED:20251118T134520Z
UID:13249-1764010800-1764016200@ridskolanstockby.se
SUMMARY:⭐Clinic med Kia & Sandra - Hur man bygger upp ett arbetspass
DESCRIPTION:Hur ska man tänka när man bygger upp ett arbetspass med sin häst. Vad är det vi letar efter? Idag tittar vi på ett upplägg samt fyller i med hur vi arbetar hästen utifrån dess biomekanik med olika hjälper/signaler. \nTid: 19.00 \nPlats: Stora Ridhuset \nRidlärare: Kia Strandberg & Sandra Asp \n\nTeoriclinics höstterminen 2025\nFör dig som rider i P6 samt i våra storhästgrupper.\nJC fredagar 18.00 går på övriga clinics och SA fredagar har teori på sin egen tid.\nOrdinarie ridning utgår på respektive teorikväll.\nDu anmäler dig till en eller flera clinics utefter vad du är intresserad av. Anmälan görs i Hippocrates\, logga in och hitta anmälan under Ridskolan”. När anmälan är gjord hittas bokningen under ”Mina aktiviteter”.
URL:https://ridskolanstockby.se/kalender/%e2%ad%90teoriclinic-4/
LOCATION:Stora Ridhuset\, Stockbyvägen 2\, Lidingö\, 181 41
END:VEVENT
BEGIN:VEVENT
DTSTART;TZID=Europe/Stockholm:20251130T080000
DTEND;TZID=Europe/Stockholm:20251130T170000
DTSTAMP:20260421T224541
CREATED:20250704T110106Z
LAST-MODIFIED:20250704T110106Z
UID:13066-1764489600-1764522000@ridskolanstockby.se
SUMMARY:🎠Prova-på-ridning
DESCRIPTION:Anmälan görs i Hippocrates från 6 dagar innan tillfället \nProva-på-ridning för barn & Föräldrarutbildning | Ridskolan Stockby
URL:https://ridskolanstockby.se/kalender/%f0%9f%8e%a0prova-pa-ridning-8/
END:VEVENT
BEGIN:VEVENT
DTSTART;TZID=Europe/Stockholm:20251130T081500
DTEND;TZID=Europe/Stockholm:20251130T120000
DTSTAMP:20260421T224541
CREATED:20250704T093106Z
LAST-MODIFIED:20251016T113645Z
UID:13020-1764490500-1764504000@ridskolanstockby.se
SUMMARY:🏇Antikrundan 40+
DESCRIPTION:HOPPTÄVLING FÖR DIG SOM ÄR 40+ \nVälkommen att träna på att tävla \nKLASSER: Bommar på marken – 60 cm\nMeddela i pratbubblan vilken höjd du vill hoppa.\n(Gruppindelning efter nivå\, meddelas fredag 28 november) \nSamling 8.15 för banbygge\nTID: Från 9.00 \nRosett till alla startande \nAnmälan görs i Hippocrates\, logga in och hitta anmälan under ”Ridskolan”. När anmälan är gjord hittas bokningen under ”Mina aktiviteter”\, i pratbubblan kan önskemål om häst och höjd skrivas in. Avbokning sker i Hippocrates och måste göras senast 36 timmar innan\, annars debiteras full avgift.
URL:https://ridskolanstockby.se/kalender/antikrundan-40-3/
END:VEVENT
BEGIN:VEVENT
DTSTART;TZID=Europe/Stockholm:20251130T120000
DTEND;TZID=Europe/Stockholm:20251130T150000
DTSTAMP:20260421T224541
CREATED:20250704T093159Z
LAST-MODIFIED:20251125T095755Z
UID:13022-1764504000-1764514800@ridskolanstockby.se
SUMMARY:🏆Träningstävling hoppning nivå P4
DESCRIPTION:TRÄNINGSTÄVLING FÖR DIG SOM RIDER I P4 \nVälkommen att träna på att tävla. Förra gången låg denna träningstävling samma dag som seriehoppningen. Nu har vi lagt den vid ett separat tillfälle. \nSamling 12.00\, ridning från 12.30 i stora ridhuset\nGemensam framridning och sedan rider ni en bana.\nEfter bygger ni ut hindren.\nPris: 575:-\nRosett till alla startande\nInstruktör: Amanda Robertsdotter \nAnmälan görs i Hippocrates\, logga in och hitta anmälan under ”Ridskolan”. När anmälan är gjord hittas bokningen under ”Mina aktiviteter”\, i pratbubblan kan önskemål om häst och höjd skrivas in. Avbokning sker i Hippocrates och måste göras senast 36 timmar innan\, annars debiteras full avgift.
URL:https://ridskolanstockby.se/kalender/hoppkurs-pa-ponny-med-amanda-2/
END:VEVENT
BEGIN:VEVENT
DTSTART;TZID=Europe/Stockholm:20251207T080000
DTEND;TZID=Europe/Stockholm:20251207T170000
DTSTAMP:20260421T224541
CREATED:20250704T110151Z
LAST-MODIFIED:20250704T110151Z
UID:13068-1765094400-1765126800@ridskolanstockby.se
SUMMARY:🎠Prova-på-ridning
DESCRIPTION:Anmälan görs i Hippocrates från 6 dagar innan tillfället \nProva-på-ridning för barn & Föräldrarutbildning | Ridskolan Stockby
URL:https://ridskolanstockby.se/kalender/%f0%9f%8e%a0prova-pa-ridning-9/
END:VEVENT
BEGIN:VEVENT
DTSTART;TZID=Europe/Stockholm:20251207T083000
DTEND;TZID=Europe/Stockholm:20251207T123000
DTSTAMP:20260421T224541
CREATED:20251125T094334Z
LAST-MODIFIED:20251125T094426Z
UID:13561-1765096200-1765110600@ridskolanstockby.se
SUMMARY:Länsförsäkringar Dressyrkurs
DESCRIPTION:Länsförsäkringar tillhandahåller information och tar emot anmälningar.
URL:https://ridskolanstockby.se/kalender/lansforsakringar-dressyrkurs-4/
END:VEVENT
BEGIN:VEVENT
DTSTART;TZID=Europe/Stockholm:20251207T123000
DTEND;TZID=Europe/Stockholm:20251207T140000
DTSTAMP:20260421T224541
CREATED:20251112T173756Z
LAST-MODIFIED:20251112T173756Z
UID:13436-1765110600-1765116000@ridskolanstockby.se
SUMMARY:🐎Träna galoppfattningar nivå P2-P3
DESCRIPTION:Välkommen att träna lite extra på galoppfattningar \nNivå P2 (Du skall ha galopperat på lektion)/P3\nSamling: 12.30\nRider: 13.00-13.45 \nMax 8 elever\nInstruktör: Sandra Asp \nAnmälan görs i Hippocrates\, logga in och hitta anmälan under ”Ridskolan”.\nNär anmälan är gjord hittas bokningen under ”Mina aktiviteter”\, i pratbubblan kan önskemål om häst skrivas in.\nAvbokning sker i Hippocrates och måste göras senast 36 timmar innan\, annars debiteras full avgift.
URL:https://ridskolanstockby.se/kalender/%f0%9f%90%8etrana-galoppfattningar-niva-p2-p3/
END:VEVENT
BEGIN:VEVENT
DTSTART;TZID=Europe/Stockholm:20251214T080000
DTEND;TZID=Europe/Stockholm:20251214T160000
DTSTAMP:20260421T224541
CREATED:20250704T110245Z
LAST-MODIFIED:20251124T122653Z
UID:13070-1765699200-1765728000@ridskolanstockby.se
SUMMARY:🎠Prova-på-ridning
DESCRIPTION:Anmälan görs i Hippocrates från 6 dagar innan tillfället \nProva-på-ridning för barn & Föräldrarutbildning | Ridskolan Stockby
URL:https://ridskolanstockby.se/kalender/%f0%9f%8e%a0prova-pa-ridning-10/
END:VEVENT
BEGIN:VEVENT
DTSTART;TZID=Europe/Stockholm:20251214T080000
DTEND;TZID=Europe/Stockholm:20251214T160000
DTSTAMP:20260421T224541
CREATED:20251124T122606Z
LAST-MODIFIED:20251124T122606Z
UID:13542-1765699200-1765728000@ridskolanstockby.se
SUMMARY:Swedbank Dressyrkurs
DESCRIPTION:För medlemmar i Swedbank IF. Swedbank IF tar emot anmälningarna.
URL:https://ridskolanstockby.se/kalender/swedbank-dressyrkurs-3/
END:VEVENT
BEGIN:VEVENT
DTSTART;TZID=Europe/Stockholm:20251221T080000
DTEND;TZID=Europe/Stockholm:20251221T170000
DTSTAMP:20260421T224541
CREATED:20250704T110340Z
LAST-MODIFIED:20250704T110340Z
UID:13072-1766304000-1766336400@ridskolanstockby.se
SUMMARY:🎠Prova-på-ridning
DESCRIPTION:Anmälan görs i Hippocrates från 6 dagar innan tillfället \nProva-på-ridning för barn & Föräldrarutbildning | Ridskolan Stockby
URL:https://ridskolanstockby.se/kalender/%f0%9f%8e%a0prova-pa-ridning-11/
END:VEVENT
BEGIN:VEVENT
DTSTART;TZID=Europe/Stockholm:20251221T090000
DTEND;TZID=Europe/Stockholm:20251221T110000
DTSTAMP:20260421T224541
CREATED:20250704T093250Z
LAST-MODIFIED:20251104T102320Z
UID:13024-1766307600-1766314800@ridskolanstockby.se
SUMMARY:🐴Prova på ridning för vuxna med julfika
DESCRIPTION:Är du  nyfiken på hur det känns att sitta på hästryggen. Här har du chansen att prova. Vi samlas stallet och gör iordning hästarna\, sen går vi in i ridhuset och provar på hur det är att rida.\nEfter fikar vi tillsammans i klubbrummet. \nSamling 9.00\nRidning 9.45-10.30\nMax 6 elever\n \nAnmälan görs i Hippocrates senast 18/12\, logga in och hitta anmälan under ”Ridskolan”. När anmälan är gjord hittas bokningen under ”Mina aktiviteter”\, i pratbubblan kan önskemål om häst skrivas in. Avbokning sker i Hippocrates och måste göras senast 36 timmar innan\, annars debiteras full avgift.
URL:https://ridskolanstockby.se/kalender/prova-pa-ridning-for-vuxna-2/
END:VEVENT
BEGIN:VEVENT
DTSTART;TZID=Europe/Stockholm:20251221T113000
DTEND;TZID=Europe/Stockholm:20251221T133000
DTSTAMP:20260421T224541
CREATED:20250704T093340Z
LAST-MODIFIED:20251104T102826Z
UID:13026-1766316600-1766323800@ridskolanstockby.se
SUMMARY:🐴Julkadrilj med fika🎅nivå P4-P6
DESCRIPTION:Vi rider kadrilj till julmusik och hoppas att få lite julstämning.\nKadriljridning är en form av organiserad ridning\, där man rider i par till musik. Ett bra sätt att träna på uppmärksamhet och noggrannhet då det gäller att hålla koll på sin parkamrat.\nEfter bjuder vi på saft och bullar i klubbrummet.\n\nP4-P6\nSamling 11.30\nRidning 12-13\nMax 8 elever\nInstruktör: Lotta Harlestam \n \nAnmälan görs i Hippocrates senast 18/12\nLogga in och hitta anmälan under ”Ridskolan”. När anmälan är gjord hittas bokningen under ”Mina aktiviteter”\, i pratbubblan kan önskemål om häst skrivas in. Avbokning sker i Hippocrates och måste göras senast 36 timmar innan\, annars debiteras full avgift.
URL:https://ridskolanstockby.se/kalender/julkadrilj-med-fika/
END:VEVENT
BEGIN:VEVENT
DTSTART;TZID=Europe/Stockholm:20251222T090000
DTEND;TZID=Europe/Stockholm:20251222T220000
DTSTAMP:20260421T224541
CREATED:20250604T125940Z
LAST-MODIFIED:20250704T094557Z
UID:12823-1766394000-1766440800@ridskolanstockby.se
SUMMARY:🎅Terminens sista lektionsdag
DESCRIPTION:
URL:https://ridskolanstockby.se/kalender/terminens-sista-lektionsdag-13/
END:VEVENT
BEGIN:VEVENT
DTSTART;TZID=Europe/Stockholm:20251223T090000
DTEND;TZID=Europe/Stockholm:20251223T150000
DTSTAMP:20260421T224541
CREATED:20251121T155357Z
LAST-MODIFIED:20251121T155357Z
UID:13514-1766480400-1766502000@ridskolanstockby.se
SUMMARY:🎅Privatlektioner
DESCRIPTION:Inled julen med en privatlektion. \nPris/person:\n2 personer  45 min – 925kr/person\n3-5 personer 45 min – 775kr/person \n\nRidlärare: Bia Pellissier eller Kia Strandberg \nLektionstider:\nStor häst  9.15-10.00\, 10.00-10.45\,10.45-11.30\nPonny 12.30-13.15\, 13.15-14.00\,14.00-14.45\n\nAnmälan med önskemål om häst/ponny och instruktör mailas till Ridskolan senast 18/12 info@ridskolanstockby.se. Avbokning måste göras senast 36 timmar innan\, annars debiteras full avgift.
URL:https://ridskolanstockby.se/kalender/%f0%9f%8e%85privatlektioner/
END:VEVENT
BEGIN:VEVENT
DTSTART;TZID=Europe/Stockholm:20251224T090000
DTEND;TZID=Europe/Stockholm:20251224T120000
DTSTAMP:20260421T224541
CREATED:20251204T151544Z
LAST-MODIFIED:20251204T151635Z
UID:13584-1766566800-1766577600@ridskolanstockby.se
SUMMARY:🤶Julaftonsritt🏇
DESCRIPTION:Vad är bättre än att starta julafton med en uteritt.  \nHäst: JC-JD\, SC-SE\nPonny: P4-P6\nGruppindelning och tider meddelas veckan innan\, morgon/fm. \nMax 8 elever per grupp\nLedare: CG Leissner med familj \nPris: Junior 450kr/Senior 500kr  \nAnmälan görs i Hippocrates senast 19/12\, logga in och hitta anmälan under ”Ridskolan”. När anmälan är gjord hittas bokningen under ”Mina aktiviteter”\, i pratbubblan kan önskemål om häst skrivas in.\nAvbokning sker i Hippocrates och måste göras senast 36 timmar innan\, annars debiteras full avgift.
URL:https://ridskolanstockby.se/kalender/%f0%9f%a4%b6julaftonsritt%f0%9f%8f%87/
END:VEVENT
BEGIN:VEVENT
DTSTART;TZID=Europe/Stockholm:20251225T083000
DTEND;TZID=Europe/Stockholm:20251225T130000
DTSTAMP:20260421T224541
CREATED:20251121T155714Z
LAST-MODIFIED:20251121T161714Z
UID:13516-1766651400-1766667600@ridskolanstockby.se
SUMMARY:🎄Dressyrkurs från nivå JC/SC 25-26/12
DESCRIPTION:Trimma lite extra dressyr med Kia\, kanske åker det fram några bommar också\, 2 pass/dag \nNivå JC-JD/SC-SE\nSamling 8.30\, ridning 9-10 & 11.30-12.30 \nMax 8 elever\nInstruktör: Kia Strandberg \nPris junior: 2300:-/ senior: 2500:-\nI mån av plats går det bra att vara med enstaka pass.\nPris junior 600kr/Senior 650kr \nAnmälan görs i Hippocrates senast 19/12\nLogga in och hitta anmälan under ”Ridskolan”. När anmälan är gjord hittas bokningen under ”Mina aktiviteter”\, i pratbubblan kan önskemål om häst skrivas in.Avbokning sker i Hippocrates och måste göras senast 36 timmar innan\, annars debiteras full avgift.
URL:https://ridskolanstockby.se/kalender/2-dagars-dressyrkurs-fran-niva-jc-sc/
END:VEVENT
BEGIN:VEVENT
DTSTART;TZID=Europe/Stockholm:20251225T110000
DTEND;TZID=Europe/Stockholm:20251225T163000
DTSTAMP:20260421T224541
CREATED:20251121T160355Z
LAST-MODIFIED:20251121T160503Z
UID:13524-1766660400-1766680200@ridskolanstockby.se
SUMMARY:🤶Allroundkurs med avslutande blåbärshoppning 25-26/12
DESCRIPTION:Vi rider 2 pass dressyr\, 1 pass markarbete och avslutar med blåbärshoppning där ni hoppar en bana på låg höjd.\nAlla får rosett efter avslutad runda.\nFika serveras i klubbrummet i pausen. \n\nNivå: P3-P4\nSamling 11.15\, ridning 12-13\, 15-16 \nMax 8 elever\nInstruktör: Bia Pellissier \nPris: 2325:-\nI mån av plats går det att vara med en av dagarna.\n\nAnmälan görs i Hippocrates senast 19/12\, logga in och hitta anmälan under ”Ridskolan”. När anmälan är gjord hittas bokningen under ”Mina aktiviteter”\, i pratbubblan kan önskemål om häst skrivas in. \nAvbokning sker i Hippocrates och måste göras senast 36 timmar innan\, annars debiteras full avgift.
URL:https://ridskolanstockby.se/kalender/%f0%9f%a4%b6allroundkurs-med-avslutande-blabarshoppning-25-26-12/
END:VEVENT
END:VCALENDAR